BEGIN:VCALENDAR
VERSION:2.0
PRODID:-//EXCALIBUR - Das Mittelalter-Restaurant und Event-Gastronomie in Algermissen bei Hannover - ECPv6.15.17//NONSGML v1.0//EN
CALSCALE:GREGORIAN
METHOD:PUBLISH
X-WR-CALNAME:EXCALIBUR - Das Mittelalter-Restaurant und Event-Gastronomie in Algermissen bei Hannover
X-ORIGINAL-URL:https://excalibur-hannover.de
X-WR-CALDESC:Veranstaltungen für EXCALIBUR - Das Mittelalter-Restaurant und Event-Gastronomie in Algermissen bei Hannover
REFRESH-INTERVAL;VALUE=DURATION:PT1H
X-Robots-Tag:noindex
X-PUBLISHED-TTL:PT1H
BEGIN:VTIMEZONE
TZID:Europe/Berlin
BEGIN:DAYLIGHT
TZOFFSETFROM:+0100
TZOFFSETTO:+0200
TZNAME:CEST
DTSTART:20250330T010000
END:DAYLIGHT
BEGIN:STANDARD
TZOFFSETFROM:+0200
TZOFFSETTO:+0100
TZNAME:CET
DTSTART:20251026T010000
END:STANDARD
BEGIN:DAYLIGHT
TZOFFSETFROM:+0100
TZOFFSETTO:+0200
TZNAME:CEST
DTSTART:20260329T010000
END:DAYLIGHT
BEGIN:STANDARD
TZOFFSETFROM:+0200
TZOFFSETTO:+0100
TZNAME:CET
DTSTART:20261025T010000
END:STANDARD
BEGIN:DAYLIGHT
TZOFFSETFROM:+0100
TZOFFSETTO:+0200
TZNAME:CEST
DTSTART:20270328T010000
END:DAYLIGHT
BEGIN:STANDARD
TZOFFSETFROM:+0200
TZOFFSETTO:+0100
TZNAME:CET
DTSTART:20271031T010000
END:STANDARD
END:VTIMEZONE
BEGIN:VEVENT
DTSTART;TZID=Europe/Berlin:20261203T170000
DTEND;TZID=Europe/Berlin:20261203T220000
DTSTAMP:20260423T084111
CREATED:20260422T104400Z
LAST-MODIFIED:20260422T104535Z
UID:10013271-1796317200-1796335200@excalibur-hannover.de
SUMMARY:Donnerstags-Gelage im „EXCALIBUR“ – Edles Schweinesteak
DESCRIPTION:🥩 Donnerstags-Gelage – Das edle Schweinesteak\nEin Mahl für wahre Fleischliebhaber – kraftvoll\, ehrlich und auf den Punkt. \nHier steht das Fleisch im Mittelpunkt:\nEdles Schweinesteak (Duroc oder Irisch)\,\nperfekt gereift und mit höchster Sorgfalt zubereitet. \n🔥 Perfektion vom Grill\n\nmindestens 4 cm stark geschnitten\nca. 360–370 g Rohgewicht\n8 Tage Dry Aged gereift\nschonend Sous-Vide gegart\nauf dem 800°-Feuergrill vollendet\n\n👉 Saftig\, zart und voller Geschmack. \n🍽️ Dazu wird gereicht\n\nSteakhouse-Pommes oder frischer Salat\nRauchsoße oder Cremesoße mit Pilzen & Zwiebeln\nBratkartoffeln gegen kleinen Aufpreis möglich\n\n\n🍻 Getränke inklusive\nFür 1 Stunde sind Bier und Wasser inklusive. \nWeitere Getränke werden separat berechnet. \n📅 Veranstaltungsdetails\n\nJeden Donnerstag\nPreis: 39 € pro Person\n\nEin ehrliches Mahl – wie für Ritter & Edelleute gemacht. \nWir freuen uns auf Euer zahlreiches Erscheinen!
URL:https://excalibur-hannover.de/internes-event/donnerstags-gelage-schweinesteak/2026-12-03/
LOCATION:"EXCALIBUR" Mittelalter-Restaurant und Eventlocation\, Piepenbrink 1\, Algermissen\, Niedersachsen\, 31191\, Deutschland
CATEGORIES:Mittelalter-Restaurant "EXCALIBUR
ATTACH;FMTTYPE=image/jpeg:https://excalibur-hannover.de/wp-content/uploads/donnerstagsaktion-original-freigestellt.jpg
END:VEVENT
BEGIN:VEVENT
DTSTART;TZID=Europe/Berlin:20261210T170000
DTEND;TZID=Europe/Berlin:20261210T220000
DTSTAMP:20260423T084111
CREATED:20260422T104400Z
LAST-MODIFIED:20260422T104535Z
UID:10013272-1796922000-1796940000@excalibur-hannover.de
SUMMARY:Donnerstags-Gelage im „EXCALIBUR“ – Edles Schweinesteak
DESCRIPTION:🥩 Donnerstags-Gelage – Das edle Schweinesteak\nEin Mahl für wahre Fleischliebhaber – kraftvoll\, ehrlich und auf den Punkt. \nHier steht das Fleisch im Mittelpunkt:\nEdles Schweinesteak (Duroc oder Irisch)\,\nperfekt gereift und mit höchster Sorgfalt zubereitet. \n🔥 Perfektion vom Grill\n\nmindestens 4 cm stark geschnitten\nca. 360–370 g Rohgewicht\n8 Tage Dry Aged gereift\nschonend Sous-Vide gegart\nauf dem 800°-Feuergrill vollendet\n\n👉 Saftig\, zart und voller Geschmack. \n🍽️ Dazu wird gereicht\n\nSteakhouse-Pommes oder frischer Salat\nRauchsoße oder Cremesoße mit Pilzen & Zwiebeln\nBratkartoffeln gegen kleinen Aufpreis möglich\n\n\n🍻 Getränke inklusive\nFür 1 Stunde sind Bier und Wasser inklusive. \nWeitere Getränke werden separat berechnet. \n📅 Veranstaltungsdetails\n\nJeden Donnerstag\nPreis: 39 € pro Person\n\nEin ehrliches Mahl – wie für Ritter & Edelleute gemacht. \nWir freuen uns auf Euer zahlreiches Erscheinen!
URL:https://excalibur-hannover.de/internes-event/donnerstags-gelage-schweinesteak/2026-12-10/
LOCATION:"EXCALIBUR" Mittelalter-Restaurant und Eventlocation\, Piepenbrink 1\, Algermissen\, Niedersachsen\, 31191\, Deutschland
CATEGORIES:Mittelalter-Restaurant "EXCALIBUR
ATTACH;FMTTYPE=image/jpeg:https://excalibur-hannover.de/wp-content/uploads/donnerstagsaktion-original-freigestellt.jpg
END:VEVENT
BEGIN:VEVENT
DTSTART;TZID=Europe/Berlin:20261217T170000
DTEND;TZID=Europe/Berlin:20261217T220000
DTSTAMP:20260423T084111
CREATED:20260422T104400Z
LAST-MODIFIED:20260422T104535Z
UID:10013273-1797526800-1797544800@excalibur-hannover.de
SUMMARY:Donnerstags-Gelage im „EXCALIBUR“ – Edles Schweinesteak
DESCRIPTION:🥩 Donnerstags-Gelage – Das edle Schweinesteak\nEin Mahl für wahre Fleischliebhaber – kraftvoll\, ehrlich und auf den Punkt. \nHier steht das Fleisch im Mittelpunkt:\nEdles Schweinesteak (Duroc oder Irisch)\,\nperfekt gereift und mit höchster Sorgfalt zubereitet. \n🔥 Perfektion vom Grill\n\nmindestens 4 cm stark geschnitten\nca. 360–370 g Rohgewicht\n8 Tage Dry Aged gereift\nschonend Sous-Vide gegart\nauf dem 800°-Feuergrill vollendet\n\n👉 Saftig\, zart und voller Geschmack. \n🍽️ Dazu wird gereicht\n\nSteakhouse-Pommes oder frischer Salat\nRauchsoße oder Cremesoße mit Pilzen & Zwiebeln\nBratkartoffeln gegen kleinen Aufpreis möglich\n\n\n🍻 Getränke inklusive\nFür 1 Stunde sind Bier und Wasser inklusive. \nWeitere Getränke werden separat berechnet. \n📅 Veranstaltungsdetails\n\nJeden Donnerstag\nPreis: 39 € pro Person\n\nEin ehrliches Mahl – wie für Ritter & Edelleute gemacht. \nWir freuen uns auf Euer zahlreiches Erscheinen!
URL:https://excalibur-hannover.de/internes-event/donnerstags-gelage-schweinesteak/2026-12-17/
LOCATION:"EXCALIBUR" Mittelalter-Restaurant und Eventlocation\, Piepenbrink 1\, Algermissen\, Niedersachsen\, 31191\, Deutschland
CATEGORIES:Mittelalter-Restaurant "EXCALIBUR
ATTACH;FMTTYPE=image/jpeg:https://excalibur-hannover.de/wp-content/uploads/donnerstagsaktion-original-freigestellt.jpg
END:VEVENT
BEGIN:VEVENT
DTSTART;TZID=Europe/Berlin:20261224T170000
DTEND;TZID=Europe/Berlin:20261224T220000
DTSTAMP:20260423T084111
CREATED:20260422T104400Z
LAST-MODIFIED:20260422T104535Z
UID:10013274-1798131600-1798149600@excalibur-hannover.de
SUMMARY:Donnerstags-Gelage im „EXCALIBUR“ – Edles Schweinesteak
DESCRIPTION:🥩 Donnerstags-Gelage – Das edle Schweinesteak\nEin Mahl für wahre Fleischliebhaber – kraftvoll\, ehrlich und auf den Punkt. \nHier steht das Fleisch im Mittelpunkt:\nEdles Schweinesteak (Duroc oder Irisch)\,\nperfekt gereift und mit höchster Sorgfalt zubereitet. \n🔥 Perfektion vom Grill\n\nmindestens 4 cm stark geschnitten\nca. 360–370 g Rohgewicht\n8 Tage Dry Aged gereift\nschonend Sous-Vide gegart\nauf dem 800°-Feuergrill vollendet\n\n👉 Saftig\, zart und voller Geschmack. \n🍽️ Dazu wird gereicht\n\nSteakhouse-Pommes oder frischer Salat\nRauchsoße oder Cremesoße mit Pilzen & Zwiebeln\nBratkartoffeln gegen kleinen Aufpreis möglich\n\n\n🍻 Getränke inklusive\nFür 1 Stunde sind Bier und Wasser inklusive. \nWeitere Getränke werden separat berechnet. \n📅 Veranstaltungsdetails\n\nJeden Donnerstag\nPreis: 39 € pro Person\n\nEin ehrliches Mahl – wie für Ritter & Edelleute gemacht. \nWir freuen uns auf Euer zahlreiches Erscheinen!
URL:https://excalibur-hannover.de/internes-event/donnerstags-gelage-schweinesteak/2026-12-24/
LOCATION:"EXCALIBUR" Mittelalter-Restaurant und Eventlocation\, Piepenbrink 1\, Algermissen\, Niedersachsen\, 31191\, Deutschland
CATEGORIES:Mittelalter-Restaurant "EXCALIBUR
ATTACH;FMTTYPE=image/jpeg:https://excalibur-hannover.de/wp-content/uploads/donnerstagsaktion-original-freigestellt.jpg
END:VEVENT
BEGIN:VEVENT
DTSTART;TZID=Europe/Berlin:20261231T170000
DTEND;TZID=Europe/Berlin:20261231T220000
DTSTAMP:20260423T084111
CREATED:20260422T104400Z
LAST-MODIFIED:20260422T104535Z
UID:10013275-1798736400-1798754400@excalibur-hannover.de
SUMMARY:Donnerstags-Gelage im „EXCALIBUR“ – Edles Schweinesteak
DESCRIPTION:🥩 Donnerstags-Gelage – Das edle Schweinesteak\nEin Mahl für wahre Fleischliebhaber – kraftvoll\, ehrlich und auf den Punkt. \nHier steht das Fleisch im Mittelpunkt:\nEdles Schweinesteak (Duroc oder Irisch)\,\nperfekt gereift und mit höchster Sorgfalt zubereitet. \n🔥 Perfektion vom Grill\n\nmindestens 4 cm stark geschnitten\nca. 360–370 g Rohgewicht\n8 Tage Dry Aged gereift\nschonend Sous-Vide gegart\nauf dem 800°-Feuergrill vollendet\n\n👉 Saftig\, zart und voller Geschmack. \n🍽️ Dazu wird gereicht\n\nSteakhouse-Pommes oder frischer Salat\nRauchsoße oder Cremesoße mit Pilzen & Zwiebeln\nBratkartoffeln gegen kleinen Aufpreis möglich\n\n\n🍻 Getränke inklusive\nFür 1 Stunde sind Bier und Wasser inklusive. \nWeitere Getränke werden separat berechnet. \n📅 Veranstaltungsdetails\n\nJeden Donnerstag\nPreis: 39 € pro Person\n\nEin ehrliches Mahl – wie für Ritter & Edelleute gemacht. \nWir freuen uns auf Euer zahlreiches Erscheinen!
URL:https://excalibur-hannover.de/internes-event/donnerstags-gelage-schweinesteak/2026-12-31/
LOCATION:"EXCALIBUR" Mittelalter-Restaurant und Eventlocation\, Piepenbrink 1\, Algermissen\, Niedersachsen\, 31191\, Deutschland
CATEGORIES:Mittelalter-Restaurant "EXCALIBUR
ATTACH;FMTTYPE=image/jpeg:https://excalibur-hannover.de/wp-content/uploads/donnerstagsaktion-original-freigestellt.jpg
END:VEVENT
END:VCALENDAR